BEGIN:VCALENDAR
VERSION:2.0
PRODID:-//Global Assets Integrated - ECPv6.15.20//NONSGML v1.0//EN
CALSCALE:GREGORIAN
METHOD:PUBLISH
X-ORIGINAL-URL:https://www.globalassetsintegrated.com
X-WR-CALDESC:Events for Global Assets Integrated
REFRESH-INTERVAL;VALUE=DURATION:PT1H
X-Robots-Tag:noindex
X-PUBLISHED-TTL:PT1H
BEGIN:VTIMEZONE
TZID:UTC
BEGIN:STANDARD
TZOFFSETFROM:+0000
TZOFFSETTO:+0000
TZNAME:UTC
DTSTART:20250101T000000
END:STANDARD
END:VTIMEZONE
BEGIN:VEVENT
DTSTART;TZID=UTC:20261130T080000
DTEND;TZID=UTC:20261204T170000
DTSTAMP:20260423T094310
CREATED:20251223T000325Z
LAST-MODIFIED:20251223T000328Z
UID:10000100-1796025600-1796403600@www.globalassetsintegrated.com
SUMMARY:Creating and Sustaining a Breaching Program (CSBP) - Mesa\, AZ
DESCRIPTION:Register\n\n\n\nCourse Introduction:\n\n\n\nThis comprehensive training is designed to guide and assist tactical breachers through the process of creating and sustaining a tactical breaching program.  The course instructs participants in the various components necessary to establish a program which fulfills their agency’s operational requirements and will be able to successfully withstand legal scrutiny. \n\n\n\n\n\nTraining Topics:\n\n\n\n\n\n\nCreating policies and procedures suitable for the agency’s needs.\n\n\n\nEstablishing parameters for initial certification\, recertification\, qualification\, and sustaining training.\n\n\n\nDefining the required equipment and support materials as well as the methods by which they are selected and authorized.\n\n\n\nIdentifying and creating proper documentation and record-keeping for\n\nTraining\n\n\n\n Operational deployment\n\n\n\nInventories (explosives\, non-explosives\, and consumables)\n\n\n\n\n\nCreating a suitable training facility to sustain the agency’s breaching capabilities     \n\n\n\nDefining proper operational deployment considerations\n\n\n\n\n\n\nCourse Prerequisites:\n\n\n\n\n\n\nParticipants must be US citizens\n\n\n\nParticipation restricted to Fully Commissioned/ Sworn U.S. Law Enforcement Officers\, Government Agents\, and Active Military Personnel\n\n\n\nParticipants cannot be on “light duty” status\n\n\n\nParticipants can only attend the training under the following conditions:\n\nWith their agency’s knowledge and agreement to their active participation in the course. \n\n\n\nWhile being paid by their agency to attend the training (being on the clock).\n\n\n\n\n\nParticipants must be in good standing with their agency\n\n\n\n\nNote:  This course is only open to weapon-carrying full-time commissioned Law Enforcement officers and/ or Government employees. \n\n\n\n\n\nLodging:\n\n\n\n\n\n\n\n\n\n\n\n\n                \n                        \n                            Student Registration Form\n                             \n                        \n                        NameThis field is for validation purposes and should be left unchanged.Please complete the form below and follow the instructions at the bottom. Once completed\, press the SUBMIT FORM button at which time a PDF copy of the form will be sent to the Primary/Department email address provided. \nIf you are an Admin or Training Coordinator completing this form on behalf of the student\, and would like an email copy of the submission\, please enter your email into the Alternate Email field.  \nNOTE – This form is used to create your Certificate. Please type your name and title the way you wish for them to appear on your Certificate. \nPersonal InformationCourse Title*Course Dates*This field is hidden when viewing the formCourse CodeFirst Name*Middle InitialLast Name*Rank/Title*Employer/Agency*Assignment*ID/ Badge #*Please type NA if not applicable.Mailing Address*    \n                    \n                         \n                                        \n                                        Street Address\n                                    \n                                    \n                                    City\n                                 \n                                        \n                                        State / Province / Region\n                                      \n                                    \n                                    ZIP / Postal Code\n                                \n                                        AfghanistanAlbaniaAlgeriaAmerican SamoaAndorraAngolaAnguillaAntarcticaAntigua and BarbudaArgentinaArmeniaArubaAustraliaAustriaAzerbaijanBahamasBahrainBangladeshBarbadosBelarusBelgiumBelizeBeninBermudaBhutanBoliviaBonaire\, Sint Eustatius and SabaBosnia and HerzegovinaBotswanaBouvet IslandBrazilBritish Indian Ocean TerritoryBrunei DarussalamBulgariaBurkina FasoBurundiCabo VerdeCambodiaCameroonCanadaCayman IslandsCentral African RepublicChadChileChinaChristmas IslandCocos IslandsColombiaComorosCongoCongo\, Democratic Republic of theCook IslandsCosta RicaCroatiaCubaCuraçaoCyprusCzechiaCôte d'IvoireDenmarkDjiboutiDominicaDominican RepublicEcuadorEgyptEl SalvadorEquatorial GuineaEritreaEstoniaEswatiniEthiopiaFalkland IslandsFaroe IslandsFijiFinlandFranceFrench GuianaFrench PolynesiaFrench Southern TerritoriesGabonGambiaGeorgiaGermanyGhanaGibraltarGreeceGreenlandGrenadaGuadeloupeGuamGuatemalaGuernseyGuineaGuinea-BissauGuyanaHaitiHeard Island and McDonald IslandsHoly SeeHondurasHong KongHungaryIcelandIndiaIndonesiaIranIraqIrelandIsle of ManIsraelItalyJamaicaJapanJerseyJordanKazakhstanKenyaKiribatiKorea\, Democratic People's Republic ofKorea\, Republic ofKuwaitKyrgyzstanLao People's Democratic RepublicLatviaLebanonLesothoLiberiaLibyaLiechtensteinLithuaniaLuxembourgMacaoMadagascarMalawiMalaysiaMaldivesMaliMaltaMarshall IslandsMartiniqueMauritaniaMauritiusMayotteMexicoMicronesiaMoldovaMonacoMongoliaMontenegroMontserratMoroccoMozambiqueMyanmarNamibiaNauruNepalNetherlandsNew CaledoniaNew ZealandNicaraguaNigerNigeriaNiueNorfolk IslandNorth MacedoniaNorthern Mariana IslandsNorwayOmanPakistanPalauPalestine\, State ofPanamaPapua New GuineaParaguayPeruPhilippinesPitcairnPolandPortugalPuerto RicoQatarRomaniaRussian FederationRwandaRéunionSaint BarthélemySaint Helena\, Ascension and Tristan da CunhaSaint Kitts and NevisSaint LuciaSaint MartinSaint Pierre and MiquelonSaint Vincent and the GrenadinesSamoaSan MarinoSao Tome and PrincipeSaudi ArabiaSenegalSerbiaSeychellesSierra LeoneSingaporeSint MaartenSlovakiaSloveniaSolomon IslandsSomaliaSouth AfricaSouth Georgia and the South Sandwich IslandsSouth SudanSpainSri LankaSudanSurinameSvalbard and Jan MayenSwedenSwitzerlandSyria Arab RepublicTaiwanTajikistanTanzania\, the United Republic ofThailandTimor-LesteTogoTokelauTongaTrinidad and TobagoTunisiaTurkmenistanTurks and Caicos IslandsTuvaluTürkiyeUS Minor Outlying IslandsUgandaUkraineUnited Arab EmiratesUnited KingdomUnited StatesUruguayUzbekistanVanuatuVenezuelaViet NamVirgin Islands\, BritishVirgin Islands\, U.S.Wallis and FutunaWestern SaharaYemenZambiaZimbabweÅland Islands\n                                        Country\n                                    \n                    \n                Contact informationThis information is used for time-sensitive course updates. Failure to provide direct contact information may prevent the student from receiving critical updates.Primary Phone*Student’s Direct PhoneAlternate PhonePersonal or Admin/Coordinator PhonePrimary/Department Email*\n                            \n                        Student’s Direct EmailAlternate Email\n                            \n                        Personal or Admin/Coordinator EmailSupervisor's Name*\n                            \n                            \n                                                    \n                                                    First\n                                                \n                            \n                            \n                                                    \n                                                    Last\n                                                \n                            \n                        Rank/Title*Supervisor's Phone*Questions or Special RequestsTerms of AgreementSTATEMENT OF NO CRIMINAL RECORD\, MENTAL ILLNESS\, OR SUBSTANCE ABUSE  (Hand-write name after printing out registration) \nI\, _________________________________\, hereby declare that I have no criminal history\, mental illness\, substance abuse history\, or other conditions which by law prohibit me from being in possession of a firearm\, driving a motor vehicle\, or in any way prohibit me from partaking in this training.  I further state that I am not currently under or waiting indictment\, prosecution\, under investigation\, or other legal action for any criminal offenses.  STATEMENT OF TRAINING CONFIDENTIALITY  (Hand-write name after printing out registration) \nI\, __________________________________\, hereby declare my full understanding of the sensitive nature of the training in which I am about to partake.  I understand that Global Assets courses are restricted to military\, law enforcement\, and government employees.  I fully agree not to share or otherwise disseminate information or training to individuals who are not currently employed with US law enforcement and/ or government agencies\, or who are not active members of the US Military without the express written consent of Global Assets Integrated.  Your spot is not reserved until these steps are completedOnce the registration is submitted\, your seat in class will be on hold until full payment and all necessary documents have been received. For special payment arrangement\, terms\, and conditions\, please contact us directly at 702-838-3002 or email coursereg@gatgusa.com \n\nPlease complete all of the following to secure your seat: \n\n    Fill out this online form and click submit. You will be sent an email with a downloadable PDF. Please notify us if you do not receive an email within two (2) business days.\n    Print the PDF and fill out the areas that require your printed name\, signature and date.\n    Email the filled out form by replying to the email you received (coursereg@gatgusa.com). You can also fax to 702-838-3466.\n        \n            Make sure to include a copy of your department ID.\n            Include a copy of your previous FETT Explosive Breacher course certificate if applicable.\n        \n    \n\n\nAfter your signed registration form is received you will receive an email confirming along with the Agency Training Approval letter\, to be completed by a supervisor\, and an invoice. \n\n    Complete and return the Agency Training Approval letter signed by a supervisor.\n    Submit payment or provide purchase order (PO) as applicable.\n\n If you have any of these documents already available you may submit them using the box below \n\nTerms and Conditions \n\n    A full tuition payment is required to secure your spot in one of our courses.\n    A full refund of tuition will be granted up to 14 days prior to the course’s start date. After this time\, no refund will be granted\, but tuition can be applied to another course.\n    Safety is a primary concern during all training courses. If\, in the sole judgement of our instructors\, a student’s ability to train safely falls below an acceptable level\, our instructors reserve the right to remove that student from the course. Tuition will be refunded.\n\nTerms & Conditions*\n								\n								I\, the undersigned\, understand and agree to the terms of this course registration.\n							Attach ID and Required Course CertificatesUse this field to attach your ID and any course certificates that are required to take this course.\n										\n											Drop files here or \n											Select files\n										\n									Accepted file types: jpg\, png\, pdf\, doc\, docx\, Max. file size: 1 GB.
URL:https://www.globalassetsintegrated.com/event/creating-and-sustaining-a-breaching-program-csbp-mesa-az/
LOCATION:Courtyard Phoenix Mesa – AZ\, 1221 South Westwood\, Mesa\, Arizona\, 85210
CATEGORIES:Explosive Breaching,Tactical Breaching
END:VEVENT
END:VCALENDAR