BEGIN:VCALENDAR
VERSION:2.0
PRODID:-//Global Assets Integrated - ECPv6.15.20//NONSGML v1.0//EN
CALSCALE:GREGORIAN
METHOD:PUBLISH
X-ORIGINAL-URL:https://www.globalassetsintegrated.com
X-WR-CALDESC:Events for Global Assets Integrated
REFRESH-INTERVAL;VALUE=DURATION:PT1H
X-Robots-Tag:noindex
X-PUBLISHED-TTL:PT1H
BEGIN:VTIMEZONE
TZID:UTC
BEGIN:STANDARD
TZOFFSETFROM:+0000
TZOFFSETTO:+0000
TZNAME:UTC
DTSTART:20250101T000000
END:STANDARD
END:VTIMEZONE
BEGIN:VEVENT
DTSTART;TZID=UTC:20261214T080000
DTEND;TZID=UTC:20261218T170000
DTSTAMP:20260423T124626
CREATED:20230824T063734Z
LAST-MODIFIED:20260105T232117Z
UID:10000056-1797235200-1797613200@www.globalassetsintegrated.com
SUMMARY:Advanced Tactical Explosive Breacher (ATEB) - Buckeye\, AZ (Phoenix area)
DESCRIPTION:Register\n\n\n\nCourse Introduction:\n\n\n\nThis Advanced Explosive Breacher course is in essence a continuation of our 6 day Basic/ Intermediate course.  It is specifically geared toward experienced operators who possess a strong foundational knowledge and experience in tactical explosive breaching. Its intent is to elevate the operational capabilities of such operators and increase their ability to perform effectively under various conditions and changing environments. \n\n\n\nDeveloped and based on years of real-world operational experience\, this unique 5 day hands-on course concentrates on the tactical applications of Explosive Breaching during critical and dynamic incidents. Participants are taught the advanced skills necessary to safely and effectively implement explosive entry during high risk operations requiring unique charge constructions\, expedient placements\, and flexible methods of deployment in order to assure proper integration into various stages of a mission. \n\n\n\nImportant Note:\n\n\n\nFor many operators who lack continuous operational deployment of explosive breaching\, this course achieves three important objectives. \n\n\n\n\nIt serves as a documented refresher for material they were originally taught years ago but may have not since revisited.\n\n\n\nIt provides crucial updates in the fields of energetics\, charge construction\, common trends pertaining to LE and Military deployment\, procedure and policy creation and revisions\,laws and regulations\, and much more.\n\n\n\nIt presents new advanced skills and methods of operation thereby facilitating forward progression in the individual breacher’s ability to apply his skill set in various environments and propel his unit’s program forward.\n\n\n\n\nCourse Prerequisites:\n\n\n\n\nRestricted to Fully Commissioned/ Sworn U.S. Law Enforcement Officers\, Government Agents\, and Active Military Personnel.\n\n\n\nCertified Explosive Breachers who possess the following (copy of certification is required):\n\nMust possess a current FETT Basic/ Intermediate Tactical Explosive Breacher Certification\n\n\n\nKnowledge of Charge Calculations To Include Net Explosive Weights (N.E.W.)\, Lbs.\, TNT\,  Minimum Safe Distances (MSD)\, Internal Overpressure\, Predicting/ Estimating Collateral Damage\, Operational Limitations of Calculations\n\n\n\nKnowledge of Basic – Intermediate Charge Construction\n\n\n\n\n\n\n\n\n\n\nTraining Topics:\n\n\n\n\n\n\nAdvanced Concepts in the Mitigation of Breaching Hazards during Tactical Operations\n\n\n\nProgressive Concepts in the use of Energetic Materials\n\n\n\nBreacher Responsibilities in Various Tactical Missions\n\n\n\nBasic/ Advanced Charge Calculations\n\n\n\nTarget Analysis (Basic/ Advanced)\n\n\n\nSupport Materials for Rapid Deployment\n\n\n\n\n\n\n\nAdvanced Charge Construction\, Selection\, and Delivery Systems\n\n\n\nAdvanced Deployment Considerations\n\n\n\nDynamic Deployments of RDC’s\n\n\n\nLow Light Operations\n\n\n\nAlternate Breaching Points\n\n\n\nStorage and Equipment\n\n\n\nMission Intelligence\, Planning\, and Briefing\n\n\n\nImplementation of Secondary Breaching Methods\n\n\n\nDocumentation and Liability)\n\n\n\n\n\n\n\n\n\n\n\n\nLodging:\n\n\n\n\n\n\n\n\n\n\n\n\n                \n                        \n                            Student Registration Form\n                             \n                        \n                        EmailThis field is for validation purposes and should be left unchanged.Please complete the form below and follow the instructions at the bottom. Once completed\, press the SUBMIT FORM button at which time a PDF copy of the form will be sent to the Primary/Department email address provided. \nIf you are an Admin or Training Coordinator completing this form on behalf of the student\, and would like an email copy of the submission\, please enter your email into the Alternate Email field.  \nNOTE – This form is used to create your Certificate. Please type your name and title the way you wish for them to appear on your Certificate. \nPersonal InformationCourse Title*Course Dates*This field is hidden when viewing the formCourse CodeFirst Name*Middle InitialLast Name*Rank/Title*Employer/Agency*Assignment*ID/ Badge #*Please type NA if not applicable.Mailing Address*    \n                    \n                         \n                                        \n                                        Street Address\n                                    \n                                    \n                                    City\n                                 \n                                        \n                                        State / Province / Region\n                                      \n                                    \n                                    ZIP / Postal Code\n                                \n                                        AfghanistanAlbaniaAlgeriaAmerican SamoaAndorraAngolaAnguillaAntarcticaAntigua and BarbudaArgentinaArmeniaArubaAustraliaAustriaAzerbaijanBahamasBahrainBangladeshBarbadosBelarusBelgiumBelizeBeninBermudaBhutanBoliviaBonaire\, Sint Eustatius and SabaBosnia and HerzegovinaBotswanaBouvet IslandBrazilBritish Indian Ocean TerritoryBrunei DarussalamBulgariaBurkina FasoBurundiCabo VerdeCambodiaCameroonCanadaCayman IslandsCentral African RepublicChadChileChinaChristmas IslandCocos IslandsColombiaComorosCongoCongo\, Democratic Republic of theCook IslandsCosta RicaCroatiaCubaCuraçaoCyprusCzechiaCôte d'IvoireDenmarkDjiboutiDominicaDominican RepublicEcuadorEgyptEl SalvadorEquatorial GuineaEritreaEstoniaEswatiniEthiopiaFalkland IslandsFaroe IslandsFijiFinlandFranceFrench GuianaFrench PolynesiaFrench Southern TerritoriesGabonGambiaGeorgiaGermanyGhanaGibraltarGreeceGreenlandGrenadaGuadeloupeGuamGuatemalaGuernseyGuineaGuinea-BissauGuyanaHaitiHeard Island and McDonald IslandsHoly SeeHondurasHong KongHungaryIcelandIndiaIndonesiaIranIraqIrelandIsle of ManIsraelItalyJamaicaJapanJerseyJordanKazakhstanKenyaKiribatiKorea\, Democratic People's Republic ofKorea\, Republic ofKuwaitKyrgyzstanLao People's Democratic RepublicLatviaLebanonLesothoLiberiaLibyaLiechtensteinLithuaniaLuxembourgMacaoMadagascarMalawiMalaysiaMaldivesMaliMaltaMarshall IslandsMartiniqueMauritaniaMauritiusMayotteMexicoMicronesiaMoldovaMonacoMongoliaMontenegroMontserratMoroccoMozambiqueMyanmarNamibiaNauruNepalNetherlandsNew CaledoniaNew ZealandNicaraguaNigerNigeriaNiueNorfolk IslandNorth MacedoniaNorthern Mariana IslandsNorwayOmanPakistanPalauPalestine\, State ofPanamaPapua New GuineaParaguayPeruPhilippinesPitcairnPolandPortugalPuerto RicoQatarRomaniaRussian FederationRwandaRéunionSaint BarthélemySaint Helena\, Ascension and Tristan da CunhaSaint Kitts and NevisSaint LuciaSaint MartinSaint Pierre and MiquelonSaint Vincent and the GrenadinesSamoaSan MarinoSao Tome and PrincipeSaudi ArabiaSenegalSerbiaSeychellesSierra LeoneSingaporeSint MaartenSlovakiaSloveniaSolomon IslandsSomaliaSouth AfricaSouth Georgia and the South Sandwich IslandsSouth SudanSpainSri LankaSudanSurinameSvalbard and Jan MayenSwedenSwitzerlandSyria Arab RepublicTaiwanTajikistanTanzania\, the United Republic ofThailandTimor-LesteTogoTokelauTongaTrinidad and TobagoTunisiaTurkmenistanTurks and Caicos IslandsTuvaluTürkiyeUS Minor Outlying IslandsUgandaUkraineUnited Arab EmiratesUnited KingdomUnited StatesUruguayUzbekistanVanuatuVenezuelaViet NamVirgin Islands\, BritishVirgin Islands\, U.S.Wallis and FutunaWestern SaharaYemenZambiaZimbabweÅland Islands\n                                        Country\n                                    \n                    \n                Contact informationThis information is used for time-sensitive course updates. Failure to provide direct contact information may prevent the student from receiving critical updates.Primary Phone*Student’s Direct PhoneAlternate PhonePersonal or Admin/Coordinator PhonePrimary/Department Email*\n                            \n                        Student’s Direct EmailAlternate Email\n                            \n                        Personal or Admin/Coordinator EmailSupervisor's Name*\n                            \n                            \n                                                    \n                                                    First\n                                                \n                            \n                            \n                                                    \n                                                    Last\n                                                \n                            \n                        Rank/Title*Supervisor's Phone*Questions or Special RequestsTerms of AgreementSTATEMENT OF NO CRIMINAL RECORD\, MENTAL ILLNESS\, OR SUBSTANCE ABUSE  (Hand-write name after printing out registration) \nI\, _________________________________\, hereby declare that I have no criminal history\, mental illness\, substance abuse history\, or other conditions which by law prohibit me from being in possession of a firearm\, driving a motor vehicle\, or in any way prohibit me from partaking in this training.  I further state that I am not currently under or waiting indictment\, prosecution\, under investigation\, or other legal action for any criminal offenses.  STATEMENT OF TRAINING CONFIDENTIALITY  (Hand-write name after printing out registration) \nI\, __________________________________\, hereby declare my full understanding of the sensitive nature of the training in which I am about to partake.  I understand that Global Assets courses are restricted to military\, law enforcement\, and government employees.  I fully agree not to share or otherwise disseminate information or training to individuals who are not currently employed with US law enforcement and/ or government agencies\, or who are not active members of the US Military without the express written consent of Global Assets Integrated.  Your spot is not reserved until these steps are completedOnce the registration is submitted\, your seat in class will be on hold until full payment and all necessary documents have been received. For special payment arrangement\, terms\, and conditions\, please contact us directly at 702-838-3002 or email coursereg@gatgusa.com \n\nPlease complete all of the following to secure your seat: \n\n    Fill out this online form and click submit. You will be sent an email with a downloadable PDF. Please notify us if you do not receive an email within two (2) business days.\n    Print the PDF and fill out the areas that require your printed name\, signature and date.\n    Email the filled out form by replying to the email you received (coursereg@gatgusa.com). You can also fax to 702-838-3466.\n        \n            Make sure to include a copy of your department ID.\n            Include a copy of your previous FETT Explosive Breacher course certificate if applicable.\n        \n    \n\n\nAfter your signed registration form is received you will receive an email confirming along with the Agency Training Approval letter\, to be completed by a supervisor\, and an invoice. \n\n    Complete and return the Agency Training Approval letter signed by a supervisor.\n    Submit payment or provide purchase order (PO) as applicable.\n\n If you have any of these documents already available you may submit them using the box below \n\nTerms and Conditions \n\n    A full tuition payment is required to secure your spot in one of our courses.\n    A full refund of tuition will be granted up to 14 days prior to the course’s start date. After this time\, no refund will be granted\, but tuition can be applied to another course.\n    Safety is a primary concern during all training courses. If\, in the sole judgement of our instructors\, a student’s ability to train safely falls below an acceptable level\, our instructors reserve the right to remove that student from the course. Tuition will be refunded.\n\nTerms & Conditions*\n								\n								I\, the undersigned\, understand and agree to the terms of this course registration.\n							Attach ID and Required Course CertificatesUse this field to attach your ID and any course certificates that are required to take this course.\n										\n											Drop files here or \n											Select files\n										\n									Accepted file types: jpg\, png\, pdf\, doc\, docx\, Max. file size: 1 GB.
URL:https://www.globalassetsintegrated.com/event/advanced-tactical-explosive-breacher-a-t-e-b-buckeye-az-phoenix-area-2/
LOCATION:TownePlace Suites Phoenix Goodyear – AZ\, 13971 Celebrate Life Way\, Goodyear\, Arizona\, 85338
CATEGORIES:Explosive Breaching
END:VEVENT
END:VCALENDAR