BEGIN:VCALENDAR
VERSION:2.0
PRODID:-//Global Assets Integrated - ECPv6.15.20//NONSGML v1.0//EN
CALSCALE:GREGORIAN
METHOD:PUBLISH
X-ORIGINAL-URL:https://www.globalassetsintegrated.com
X-WR-CALDESC:Events for Global Assets Integrated
REFRESH-INTERVAL;VALUE=DURATION:PT1H
X-Robots-Tag:noindex
X-PUBLISHED-TTL:PT1H
BEGIN:VTIMEZONE
TZID:UTC
BEGIN:STANDARD
TZOFFSETFROM:+0000
TZOFFSETTO:+0000
TZNAME:UTC
DTSTART:20250101T000000
END:STANDARD
END:VTIMEZONE
BEGIN:VEVENT
DTSTART;TZID=UTC:20260511T080000
DTEND;TZID=UTC:20260515T170000
DTSTAMP:20260423T094108
CREATED:20251217T001533Z
LAST-MODIFIED:20260105T230745Z
UID:10000095-1778486400-1778864400@www.globalassetsintegrated.com
SUMMARY:Manual\, Mechanical\, Ballistic\, Thermal\, and Hydraulic Breacher Certification Course (MMBTH)    -Cary\, NC
DESCRIPTION:Register\n\n\n\nCourse Introduction:\n\n\n\nAs a comprehensive breaching course\, M.M.B.T.H is designed to provide a complete certification training encompassing 5 of the most commonly used breaching methods in tactical fields.  The training concentrates on the proper and effective applications of each method for the purpose of achieving the tactical objectives of various missions. \n\n\n\nThis unique course fulfills two important objectives.  First\, to  provide participants with one training venue to learn\, practice\, and become proficient with manual\, mechanical\, ballistic\, thermal\, and hydraulic breaching tools\, and methodologies.  The second\, accomplished during countless practical exercises\, provides operators with ability to dynamically implement various breaching tools in support of one another thereby recognize their true operational capabilities and limitations. \n\n\n\nThis course is taught by both POST certified law enforcement instructors and veteran military operators\, all of whom possess real-world operational experience in field of ballistic breaching. \n\n\n\nCourse Prerequisites:\n\n\n\nRestricted to Fully Commissioned/ Sworn U.S. Law Enforcement Officers\, Government Agents\, and Active Military Personnel. \n\n\n\nTarget Audience:\n\n\n\n\nMembers of tactical teams and/ or emergency response units\n\n\n\nMembers of Bomb Tech/ EOD teams\n\n\n\nMembers of other specialized units which require operational knowledge and capacities in the field of tactical breaching\n\n\n\nInstructors specializing in tactical operations\, breaching methods\, and/ or related fields\n\n\n\n\n\n\nTraining Modules:\n\n\n\n\n\nManual  \n\n\n\n\nRam\n\n\n\nSledge Hammer\n\n\n\nHalligan\n\n\n\nBolt Cutters\n\n\n\nGate / Pull Hook\n\n\n\nBreak and Rake Tools\n\n\n\n\nMechanical \n\n\n\n\nRescue / K12 / Quickie Saws\n\n\n\nChain Saws\n\n\n\nBattery Operated Saws\n\n\n\n\n\n\nThermal \n\n\n\n\nExothermic\n\n\n\n\nBallistic \n\n\n\n\n12ga Shotgun\n\n\n\n\nHydraulic \n\n\n\n\nManual Hydraulic \n\n\n\nBattery Powered Hydraulic\n\n\n\n\n\n\n\n\nTraining Topics:\n\n\n\n\n\n\nTools Selection\n\n\n\nApplicable Safety Procedures\n\n\n\nSafety Tools and Equipment\n\n\n\nMaintenance and Trouble Shooting\n\n\n\nBasic Manipulation and Use\n\n\n\nAdvance Concepts in Tactical Use\n\n\n\nTarget Analysis\n\n\n\nTactical Considerations and Deployments\n\n\n\nContingencies Plans\n\n\n\nMission Intelligence\, Planning\, and Briefing\n\n\n\n\n\n\n\nBreaching targets\n\nDoor Breaching (Wood\, Metal\, Fiberglass)\n\n\n\nSecurity Gates\n\n\n\nWindow Breaching\n\n\n\nGarage Doors\n\n\n\nRoofs\n\n\n\nBarricaded Targets\n\n\n\nRebars\n\n\n\nMetal Security Bars\n\n\n\n\n\nDeployment of M.M.B.T.H tools in support of Explosive Breaching\n\n\n\n\n\n\n\n\nLodging:\n\n\n\n\n\n\n\n\n\n\n\n\n\n\n\n\n                \n                        \n                            Student Registration Form\n                             \n                        \n                        PhoneThis field is for validation purposes and should be left unchanged.Please complete the form below and follow the instructions at the bottom. Once completed\, press the SUBMIT FORM button at which time a PDF copy of the form will be sent to the Primary/Department email address provided. \nIf you are an Admin or Training Coordinator completing this form on behalf of the student\, and would like an email copy of the submission\, please enter your email into the Alternate Email field.  \nNOTE – This form is used to create your Certificate. Please type your name and title the way you wish for them to appear on your Certificate. \nPersonal InformationCourse Title*Course Dates*This field is hidden when viewing the formCourse CodeFirst Name*Middle InitialLast Name*Rank/Title*Employer/Agency*Assignment*ID/ Badge #*Please type NA if not applicable.Mailing Address*    \n                    \n                         \n                                        \n                                        Street Address\n                                    \n                                    \n                                    City\n                                 \n                                        \n                                        State / Province / Region\n                                      \n                                    \n                                    ZIP / Postal Code\n                                \n                                        AfghanistanAlbaniaAlgeriaAmerican SamoaAndorraAngolaAnguillaAntarcticaAntigua and BarbudaArgentinaArmeniaArubaAustraliaAustriaAzerbaijanBahamasBahrainBangladeshBarbadosBelarusBelgiumBelizeBeninBermudaBhutanBoliviaBonaire\, Sint Eustatius and SabaBosnia and HerzegovinaBotswanaBouvet IslandBrazilBritish Indian Ocean TerritoryBrunei DarussalamBulgariaBurkina FasoBurundiCabo VerdeCambodiaCameroonCanadaCayman IslandsCentral African RepublicChadChileChinaChristmas IslandCocos IslandsColombiaComorosCongoCongo\, Democratic Republic of theCook IslandsCosta RicaCroatiaCubaCuraçaoCyprusCzechiaCôte d'IvoireDenmarkDjiboutiDominicaDominican RepublicEcuadorEgyptEl SalvadorEquatorial GuineaEritreaEstoniaEswatiniEthiopiaFalkland IslandsFaroe IslandsFijiFinlandFranceFrench GuianaFrench PolynesiaFrench Southern TerritoriesGabonGambiaGeorgiaGermanyGhanaGibraltarGreeceGreenlandGrenadaGuadeloupeGuamGuatemalaGuernseyGuineaGuinea-BissauGuyanaHaitiHeard Island and McDonald IslandsHoly SeeHondurasHong KongHungaryIcelandIndiaIndonesiaIranIraqIrelandIsle of ManIsraelItalyJamaicaJapanJerseyJordanKazakhstanKenyaKiribatiKorea\, Democratic People's Republic ofKorea\, Republic ofKuwaitKyrgyzstanLao People's Democratic RepublicLatviaLebanonLesothoLiberiaLibyaLiechtensteinLithuaniaLuxembourgMacaoMadagascarMalawiMalaysiaMaldivesMaliMaltaMarshall IslandsMartiniqueMauritaniaMauritiusMayotteMexicoMicronesiaMoldovaMonacoMongoliaMontenegroMontserratMoroccoMozambiqueMyanmarNamibiaNauruNepalNetherlandsNew CaledoniaNew ZealandNicaraguaNigerNigeriaNiueNorfolk IslandNorth MacedoniaNorthern Mariana IslandsNorwayOmanPakistanPalauPalestine\, State ofPanamaPapua New GuineaParaguayPeruPhilippinesPitcairnPolandPortugalPuerto RicoQatarRomaniaRussian FederationRwandaRéunionSaint BarthélemySaint Helena\, Ascension and Tristan da CunhaSaint Kitts and NevisSaint LuciaSaint MartinSaint Pierre and MiquelonSaint Vincent and the GrenadinesSamoaSan MarinoSao Tome and PrincipeSaudi ArabiaSenegalSerbiaSeychellesSierra LeoneSingaporeSint MaartenSlovakiaSloveniaSolomon IslandsSomaliaSouth AfricaSouth Georgia and the South Sandwich IslandsSouth SudanSpainSri LankaSudanSurinameSvalbard and Jan MayenSwedenSwitzerlandSyria Arab RepublicTaiwanTajikistanTanzania\, the United Republic ofThailandTimor-LesteTogoTokelauTongaTrinidad and TobagoTunisiaTurkmenistanTurks and Caicos IslandsTuvaluTürkiyeUS Minor Outlying IslandsUgandaUkraineUnited Arab EmiratesUnited KingdomUnited StatesUruguayUzbekistanVanuatuVenezuelaViet NamVirgin Islands\, BritishVirgin Islands\, U.S.Wallis and FutunaWestern SaharaYemenZambiaZimbabweÅland Islands\n                                        Country\n                                    \n                    \n                Contact informationThis information is used for time-sensitive course updates. Failure to provide direct contact information may prevent the student from receiving critical updates.Primary Phone*Student’s Direct PhoneAlternate PhonePersonal or Admin/Coordinator PhonePrimary/Department Email*\n                            \n                        Student’s Direct EmailAlternate Email\n                            \n                        Personal or Admin/Coordinator EmailSupervisor's Name*\n                            \n                            \n                                                    \n                                                    First\n                                                \n                            \n                            \n                                                    \n                                                    Last\n                                                \n                            \n                        Rank/Title*Supervisor's Phone*Questions or Special RequestsTerms of AgreementSTATEMENT OF NO CRIMINAL RECORD\, MENTAL ILLNESS\, OR SUBSTANCE ABUSE  (Hand-write name after printing out registration) \nI\, _________________________________\, hereby declare that I have no criminal history\, mental illness\, substance abuse history\, or other conditions which by law prohibit me from being in possession of a firearm\, driving a motor vehicle\, or in any way prohibit me from partaking in this training.  I further state that I am not currently under or waiting indictment\, prosecution\, under investigation\, or other legal action for any criminal offenses.  STATEMENT OF TRAINING CONFIDENTIALITY  (Hand-write name after printing out registration) \nI\, __________________________________\, hereby declare my full understanding of the sensitive nature of the training in which I am about to partake.  I understand that Global Assets courses are restricted to military\, law enforcement\, and government employees.  I fully agree not to share or otherwise disseminate information or training to individuals who are not currently employed with US law enforcement and/ or government agencies\, or who are not active members of the US Military without the express written consent of Global Assets Integrated.  Your spot is not reserved until these steps are completedOnce the registration is submitted\, your seat in class will be on hold until full payment and all necessary documents have been received. For special payment arrangement\, terms\, and conditions\, please contact us directly at 702-838-3002 or email coursereg@gatgusa.com \n\nPlease complete all of the following to secure your seat: \n\n    Fill out this online form and click submit. You will be sent an email with a downloadable PDF. Please notify us if you do not receive an email within two (2) business days.\n    Print the PDF and fill out the areas that require your printed name\, signature and date.\n    Email the filled out form by replying to the email you received (coursereg@gatgusa.com). You can also fax to 702-838-3466.\n        \n            Make sure to include a copy of your department ID.\n            Include a copy of your previous FETT Explosive Breacher course certificate if applicable.\n        \n    \n\n\nAfter your signed registration form is received you will receive an email confirming along with the Agency Training Approval letter\, to be completed by a supervisor\, and an invoice. \n\n    Complete and return the Agency Training Approval letter signed by a supervisor.\n    Submit payment or provide purchase order (PO) as applicable.\n\n If you have any of these documents already available you may submit them using the box below \n\nTerms and Conditions \n\n    A full tuition payment is required to secure your spot in one of our courses.\n    A full refund of tuition will be granted up to 14 days prior to the course’s start date. After this time\, no refund will be granted\, but tuition can be applied to another course.\n    Safety is a primary concern during all training courses. If\, in the sole judgement of our instructors\, a student’s ability to train safely falls below an acceptable level\, our instructors reserve the right to remove that student from the course. Tuition will be refunded.\n\nTerms & Conditions*\n								\n								I\, the undersigned\, understand and agree to the terms of this course registration.\n							Attach ID and Required Course CertificatesUse this field to attach your ID and any course certificates that are required to take this course.\n										\n											Drop files here or \n											Select files\n										\n									Accepted file types: jpg\, png\, pdf\, doc\, docx\, Max. file size: 1 GB.
URL:https://www.globalassetsintegrated.com/event/manual-mechanical-ballistic-thermal-and-hydraulic-breacher-certification-course-mmbth-cary-nc/
LOCATION:TBA
CATEGORIES:Tactical Breaching
END:VEVENT
BEGIN:VEVENT
DTSTART;TZID=UTC:20261116T080000
DTEND;TZID=UTC:20261120T170000
DTSTAMP:20260423T094108
CREATED:20230825T061644Z
LAST-MODIFIED:20260227T163152Z
UID:10000066-1794816000-1795194000@www.globalassetsintegrated.com
SUMMARY:11th Annual Breaching Circle - Buckeye\, AZ (Phoenix area)
DESCRIPTION:Register\n\n\n\nWorkshop Introduction:\n\n\n\nThis interactive workshop was created by and for operational breachers. Its main objective is to provide tactical operators with the ability to interact and learn from their fellow operators. The workshop affords participants the opportunity to physically interact and become involved in hands-on training. Furthermore\, it will expose students to various breaching tactics and methods of operation currently in use by various agencies/ units nationwide. \n\n\n\nThe workshop will concentrate primarily on the subject of Tactical Explosive Breaching but will also include practical training modules in the fields of mechanical\, ballistic\, and exothermic breaching. In each module\, participants will be provided with instruction and will then perform various tasks and tactics using the specific tool and/ or method of breaching presented.Due to the operational nature of the workshop\, all classes will be taught exclusively by active law enforcement officers and military personnel who possess current real-world operational experience in their respective breaching fields. \n\n\n\nCourse Prerequisites:\n\n\n\nRestricted to Fully Commissioned/ Sworn U.S. Law Enforcement Officers\, Government Agents\, and Active Military Personnel. \n\n\n\n\n\nHow the Training Works:\n\n\n\n\nUpon registration\, participants will be provided with a list of 10 separate training modules covering various aspects of explosive\, mechanical\, ballistic\, and exothermic breaching. Modules will be scheduled and repeated throughout the workshop based on participant interest and availability of targets. Modules will be taught at least twice throughout the 5 day workshop.\n\n\n\nParticipants will choose their desired classes and will later be slotted to attend the training on scheduled times/ days. Participants will be encouraged to attend as many classes as they can fit into their daily schedule.\n\n\n\n\n\n\n\n\nLodging:\n\n\n\n\n\n\n\n\n\n\n\n                \n                        \n                            Student Registration Form\n                             \n                        \n                        CommentsThis field is for validation purposes and should be left unchanged.Please complete the form below and follow the instructions at the bottom. Once completed\, press the SUBMIT FORM button at which time a PDF copy of the form will be sent to the Primary/Department email address provided. \nIf you are an Admin or Training Coordinator completing this form on behalf of the student\, and would like an email copy of the submission\, please enter your email into the Alternate Email field.  \nNOTE – This form is used to create your Certificate. Please type your name and title the way you wish for them to appear on your Certificate. \nPersonal InformationCourse Title*Course Dates*This field is hidden when viewing the formCourse CodeFirst Name*Middle InitialLast Name*Rank/Title*Employer/Agency*Assignment*ID/ Badge #*Please type NA if not applicable.Mailing Address*    \n                    \n                         \n                                        \n                                        Street Address\n                                    \n                                    \n                                    City\n                                 \n                                        \n                                        State / Province / Region\n                                      \n                                    \n                                    ZIP / Postal Code\n                                \n                                        AfghanistanAlbaniaAlgeriaAmerican SamoaAndorraAngolaAnguillaAntarcticaAntigua and BarbudaArgentinaArmeniaArubaAustraliaAustriaAzerbaijanBahamasBahrainBangladeshBarbadosBelarusBelgiumBelizeBeninBermudaBhutanBoliviaBonaire\, Sint Eustatius and SabaBosnia and HerzegovinaBotswanaBouvet IslandBrazilBritish Indian Ocean TerritoryBrunei DarussalamBulgariaBurkina FasoBurundiCabo VerdeCambodiaCameroonCanadaCayman IslandsCentral African RepublicChadChileChinaChristmas IslandCocos IslandsColombiaComorosCongoCongo\, Democratic Republic of theCook IslandsCosta RicaCroatiaCubaCuraçaoCyprusCzechiaCôte d'IvoireDenmarkDjiboutiDominicaDominican RepublicEcuadorEgyptEl SalvadorEquatorial GuineaEritreaEstoniaEswatiniEthiopiaFalkland IslandsFaroe IslandsFijiFinlandFranceFrench GuianaFrench PolynesiaFrench Southern TerritoriesGabonGambiaGeorgiaGermanyGhanaGibraltarGreeceGreenlandGrenadaGuadeloupeGuamGuatemalaGuernseyGuineaGuinea-BissauGuyanaHaitiHeard Island and McDonald IslandsHoly SeeHondurasHong KongHungaryIcelandIndiaIndonesiaIranIraqIrelandIsle of ManIsraelItalyJamaicaJapanJerseyJordanKazakhstanKenyaKiribatiKorea\, Democratic People's Republic ofKorea\, Republic ofKuwaitKyrgyzstanLao People's Democratic RepublicLatviaLebanonLesothoLiberiaLibyaLiechtensteinLithuaniaLuxembourgMacaoMadagascarMalawiMalaysiaMaldivesMaliMaltaMarshall IslandsMartiniqueMauritaniaMauritiusMayotteMexicoMicronesiaMoldovaMonacoMongoliaMontenegroMontserratMoroccoMozambiqueMyanmarNamibiaNauruNepalNetherlandsNew CaledoniaNew ZealandNicaraguaNigerNigeriaNiueNorfolk IslandNorth MacedoniaNorthern Mariana IslandsNorwayOmanPakistanPalauPalestine\, State ofPanamaPapua New GuineaParaguayPeruPhilippinesPitcairnPolandPortugalPuerto RicoQatarRomaniaRussian FederationRwandaRéunionSaint BarthélemySaint Helena\, Ascension and Tristan da CunhaSaint Kitts and NevisSaint LuciaSaint MartinSaint Pierre and MiquelonSaint Vincent and the GrenadinesSamoaSan MarinoSao Tome and PrincipeSaudi ArabiaSenegalSerbiaSeychellesSierra LeoneSingaporeSint MaartenSlovakiaSloveniaSolomon IslandsSomaliaSouth AfricaSouth Georgia and the South Sandwich IslandsSouth SudanSpainSri LankaSudanSurinameSvalbard and Jan MayenSwedenSwitzerlandSyria Arab RepublicTaiwanTajikistanTanzania\, the United Republic ofThailandTimor-LesteTogoTokelauTongaTrinidad and TobagoTunisiaTurkmenistanTurks and Caicos IslandsTuvaluTürkiyeUS Minor Outlying IslandsUgandaUkraineUnited Arab EmiratesUnited KingdomUnited StatesUruguayUzbekistanVanuatuVenezuelaViet NamVirgin Islands\, BritishVirgin Islands\, U.S.Wallis and FutunaWestern SaharaYemenZambiaZimbabweÅland Islands\n                                        Country\n                                    \n                    \n                Contact informationThis information is used for time-sensitive course updates. Failure to provide direct contact information may prevent the student from receiving critical updates.Primary Phone*Student’s Direct PhoneAlternate PhonePersonal or Admin/Coordinator PhonePrimary/Department Email*\n                            \n                        Student’s Direct EmailAlternate Email\n                            \n                        Personal or Admin/Coordinator EmailSupervisor's Name*\n                            \n                            \n                                                    \n                                                    First\n                                                \n                            \n                            \n                                                    \n                                                    Last\n                                                \n                            \n                        Rank/Title*Supervisor's Phone*Questions or Special RequestsTerms of AgreementSTATEMENT OF NO CRIMINAL RECORD\, MENTAL ILLNESS\, OR SUBSTANCE ABUSE  (Hand-write name after printing out registration) \nI\, _________________________________\, hereby declare that I have no criminal history\, mental illness\, substance abuse history\, or other conditions which by law prohibit me from being in possession of a firearm\, driving a motor vehicle\, or in any way prohibit me from partaking in this training.  I further state that I am not currently under or waiting indictment\, prosecution\, under investigation\, or other legal action for any criminal offenses.  STATEMENT OF TRAINING CONFIDENTIALITY  (Hand-write name after printing out registration) \nI\, __________________________________\, hereby declare my full understanding of the sensitive nature of the training in which I am about to partake.  I understand that Global Assets courses are restricted to military\, law enforcement\, and government employees.  I fully agree not to share or otherwise disseminate information or training to individuals who are not currently employed with US law enforcement and/ or government agencies\, or who are not active members of the US Military without the express written consent of Global Assets Integrated.  Your spot is not reserved until these steps are completedOnce the registration is submitted\, your seat in class will be on hold until full payment and all necessary documents have been received. For special payment arrangement\, terms\, and conditions\, please contact us directly at 702-838-3002 or email coursereg@gatgusa.com \n\nPlease complete all of the following to secure your seat: \n\n    Fill out this online form and click submit. You will be sent an email with a downloadable PDF. Please notify us if you do not receive an email within two (2) business days.\n    Print the PDF and fill out the areas that require your printed name\, signature and date.\n    Email the filled out form by replying to the email you received (coursereg@gatgusa.com). You can also fax to 702-838-3466.\n        \n            Make sure to include a copy of your department ID.\n            Include a copy of your previous FETT Explosive Breacher course certificate if applicable.\n        \n    \n\n\nAfter your signed registration form is received you will receive an email confirming along with the Agency Training Approval letter\, to be completed by a supervisor\, and an invoice. \n\n    Complete and return the Agency Training Approval letter signed by a supervisor.\n    Submit payment or provide purchase order (PO) as applicable.\n\n If you have any of these documents already available you may submit them using the box below \n\nTerms and Conditions \n\n    A full tuition payment is required to secure your spot in one of our courses.\n    A full refund of tuition will be granted up to 14 days prior to the course’s start date. After this time\, no refund will be granted\, but tuition can be applied to another course.\n    Safety is a primary concern during all training courses. If\, in the sole judgement of our instructors\, a student’s ability to train safely falls below an acceptable level\, our instructors reserve the right to remove that student from the course. Tuition will be refunded.\n\nTerms & Conditions*\n								\n								I\, the undersigned\, understand and agree to the terms of this course registration.\n							Attach ID and Required Course CertificatesUse this field to attach your ID and any course certificates that are required to take this course.\n										\n											Drop files here or \n											Select files\n										\n									Accepted file types: jpg\, png\, pdf\, doc\, docx\, Max. file size: 1 GB.
URL:https://www.globalassetsintegrated.com/event/11th-annual-breaching-circle-buckeye-az-phoenix-area/
LOCATION:TBA
CATEGORIES:Explosive Breaching,Special Events,Tactical Breaching
END:VEVENT
END:VCALENDAR